BEGIN:VCALENDAR
VERSION:1.0
BEGIN:VEVENT
UID:i-event-748
SUMMARY: Event Earth Month Volunteer Event
DESCRIPTION;ENCODING=QUOTED-PRINTABLE:Join us to care for the forest at Viewpoint Open Space. We will be removing blackberry that is growing back in areas we have planted young plants.
LOCATION:Viewpoint Open Space
DTSTART:20260423T130000
DTEND:20260423T150000
END:VEVENT
END:VCALENDAR
