BEGIN:VCALENDAR
VERSION:1.0
BEGIN:VEVENT
UID:i-event-745
SUMMARY: Event Oh No You Don&#x27;t! No Weeds in Our Forest!
DESCRIPTION;ENCODING=QUOTED-PRINTABLE:So many invasive blackberry vines and other plant species have been removed from the Grass Lawn Park forest that the neighbors have noticed!  And we&#x27;re still at it!  The Rotary Club of Redmond invites you to join us as we remove even more blackberries, ivy, holly and more. You can be proud of the difference you ae making in Redmond&#x27;s parks, keeping them natural while getting dirty, having fun and making some new friends.
LOCATION:Grass Lawn Community Park
DTSTART:20260523T100000
DTEND:20260523T120000
END:VEVENT
END:VCALENDAR
