BEGIN:VCALENDAR
VERSION:1.0
BEGIN:VEVENT
UID:i-event-744
SUMMARY: Event May the Weeds be Uprooted!
DESCRIPTION;ENCODING=QUOTED-PRINTABLE:The relentless blackberries, ivy and other invasive plant species are no match for our fun-loving crew of spies, loppers and shovelers.  The Rotary Club of Redmond welcomes all friends of Redmond&#x27;s wonderful parks to get dirty, have some fun, meet a few new friends and eliminate the annoying weeds from the forest so the natural native species can thrive.
LOCATION:Grass Lawn Community Park
DTSTART:20260509T100000
DTEND:20260509T120000
END:VEVENT
END:VCALENDAR
