BEGIN:VCALENDAR
VERSION:2.0
METHOD:PUBLISH
PRODID:-//CLC//v1.0//EN
X-WR-TIMEZONE:US/Pacific
CALSCALE:GREGORIAN
BEGIN:VEVENT
UID:-event-653
DTSTAMP:20250905T090000
DTSTART:20250905T090000
DTEND:20250905T120000
SUMMARY: Event Tree Watering at Heron Rookery
LOCATION:Heron Rookery
ORGANIZER;CN=Maya Klem
CATEGORIES:Work Party
CLASS:PUBLIC
CONTACT:mklem@redmond.gov
END:VEVENT
END:VCALENDAR
