BEGIN:VCALENDAR
VERSION:1.0
BEGIN:VEVENT
UID:i-event-648
SUMMARY: Event Preparation for planting season - Last Saturday Volunteer Event
DESCRIPTION;ENCODING=QUOTED-PRINTABLE:Join the Green Redmond Partnership and other enthusiastic volunteers to help prepare for Green Redmond Day&#x27;s planting event in October. We will be removing weedy plants to make room for planting native trees and shrubs.
LOCATION:Idylwood Beach Park
DTSTART:20250927T090000
DTEND:20250927T120000
END:VEVENT
END:VCALENDAR
