BEGIN:VCALENDAR
VERSION:1.0
BEGIN:VEVENT
UID:i-event-632
SUMMARY: Event Youth Volunteer Tree Watering Event
DESCRIPTION;ENCODING=QUOTED-PRINTABLE:Join us for tree watering at the Heron Rookery! We’ll be taking care of Redmond’s trees and ensuring that they have enough water through the hot summer months. Tools, gloves, and snacks will be provided.
LOCATION:Heron Rookery
DTSTART:20250709T100000
DTEND:20250709T130000
END:VEVENT
END:VCALENDAR
