BEGIN:VCALENDAR
VERSION:1.0
BEGIN:VEVENT
UID:i-event-461
SUMMARY: Event Green Redmond Day
DESCRIPTION;ENCODING=QUOTED-PRINTABLE:Join us at downtown Redmond&#x27;s Heron Rookery Park for our annual Green Redmond Day planting event. We are working on reforesting this site that is infected with root rot disease and we need your help! We will provide instruction, tools, gloves and refreshments. Hope to see you there!
LOCATION:Heron Rookery
DTSTART:20231028T090000
DTEND:20231028T120000
END:VEVENT
END:VCALENDAR
