BEGIN:VCALENDAR
VERSION:1.0
BEGIN:VEVENT
UID:i-event-188
SUMMARY: Event Plant trees with us! MLK Day of Service: Juel Park Restoration
DESCRIPTION;ENCODING=QUOTED-PRINTABLE:Celebrate MLK Day of Service by planting native trees and shrubs, and removing invasive blackberry, as part of restoration efforts in a local urban forest. You will find this event to be both fun and informative.
LOCATION:Juel Community Park
DTSTART:20220117T090000
DTEND:20220117T120000
END:VEVENT
END:VCALENDAR
